BEGIN:VCALENDAR
VERSION:2.0
PRODID:-//Volt Europa//Events//EN
CALSCALE:GREGORIAN
METHOD:PUBLISH
BEGIN:VEVENT
UID:decouvrez-volt-a-nantes-1713456000@voltfrance.org
DTSTAMP:20260423T155411Z
DTSTART;TZID=Europe/Paris:20240418T180000
DTEND;TZID=Europe/Paris:20240418T200000
SUMMARY:Découvrez Volt à Nantes
DESCRIPTION:Retrouvez Daphné le Dunf\, candidate de Volt France lors de la
  conférence organisée par le syndicat Union Pirate Nantes. L'Union Pirate
  est un syndicat indépendant créé en septembre 2022\, à Nantes\, qui po
 rte des valeurs d'écologie et de solidarité\, en communiquant et en agiss
 ant partout où cela est possible pour atteindre ses objectifs. Le profil d
 e Daphné le Dunf
LOCATION:Université de Nantes\, 23 Rue Recteur Schmitt\, 44300 Nantes
URL:https://voltfrance.org/evenements/decouvrez-volt-a-nantes
END:VEVENT
END:VCALENDAR
