BEGIN:VCALENDAR
VERSION:2.0
PRODID:-//Volt Europa//Events//EN
CALSCALE:GREGORIAN
METHOD:PUBLISH
BEGIN:VEVENT
UID:decollage-a-berlin-1728720000@voltfrance.org
DTSTAMP:20260423T040729Z
DTSTART;TZID=Europe/Paris:20241012T100000
DTEND;TZID=Europe/Paris:20241012T170000
SUMMARY:Décollage à Berlin !
DESCRIPTION:Berlinois :  Participez au TAKE-OFF 25 et façonnez l'avenir po
 litique le 12 octobre à Berlin-Tegel.  À un an des  élections législati
 ves allemandes \, vous avez envie de  changer les choses  et de contribuer 
 à façonner l’avenir de l'Europe ?  Rejoignez Volt  lors de l’événem
 ent  TAKE-OFF 25  le 12 octobre 2024 à l'ancien  aéroport de Berlin-Tegel
   ! Cette journée s'adresse à tous ceux qui veulent des  idées nouvelles
   et n’en peuvent plus du statu quo ou qui souhaitent en savoir plus sur 
  Volt  a
LOCATION:Aéroport de Berlin-Tegel\, .GUT Am Flughafen 1\, 13405 Berlin
URL:https://voltfrance.org/evenements/decollage-a-berlin
END:VEVENT
END:VCALENDAR
