BEGIN:VCALENDAR
VERSION:2.0
PRODID:-//Volt Europa//Events//EN
CALSCALE:GREGORIAN
METHOD:PUBLISH
BEGIN:VEVENT
UID:debat-autour-de-la-transition-ecologique-avec-lefteris-foivos-de-volt-1
 717520400@voltfrance.org
DTSTAMP:20260425T162648Z
DTSTART;TZID=Europe/Paris:20240604T190000
DTEND;TZID=Europe/Paris:20240604T210000
SUMMARY:Débat autour de la transition écologique avec Lefteris Foivos de 
 Volt
DESCRIPTION:Modéré par Christian Moretto...
LOCATION:Halles de la Transition\, 7 rue du Canon D'Arcole\, 31000\, Toulou
 se
URL:https://voltfrance.org/evenements/debat-autour-de-la-transition-ecologi
 que-avec-lefteris-foivos-de-volt
END:VEVENT
END:VCALENDAR
