BEGIN:VCALENDAR
VERSION:2.0
PRODID:-//Volt Europa//Events//EN
CALSCALE:GREGORIAN
METHOD:PUBLISH
BEGIN:VEVENT
UID:debat-a-montrouge-1717254000@voltfrance.org
DTSTAMP:20260423T112836Z
DTSTART;TZID=Europe/Paris:20240601T170000
DTEND;TZID=Europe/Paris:20240601T190000
SUMMARY:Débat à Montrouge avec Guillaume Lacroix
DESCRIPTION:Guillaume Lacroix\, tête de liste de la coalition ETE et prés
 ident du PRG\, en compagnie de plusieurs candidats de la liste\, Juliette M
 éadel\, Hadrien Laurent... organise un débat pour parler d' une Europe de
 s territoires\, + fédérale + sociale\, pleinement laïque et républicain
 e. Rendez vous au parc Pablo Picasso à 17H\, puis café Jean Bart 134 aven
 ue de la République à 18 H à Montrouge.
LOCATION:Café Jean Bart\, 134 avenue de la République\, 92120 Montrouge
URL:https://voltfrance.org/evenements/debat-a-montrouge
END:VEVENT
END:VCALENDAR
