BEGIN:VCALENDAR
VERSION:2.0
PRODID:-//Volt Europa//Events//EN
CALSCALE:GREGORIAN
METHOD:PUBLISH
BEGIN:VEVENT
UID:conference-sur-lotan-enjeux-et-perspectives-pour-la-securite-europeenne
 -1759856400@voltfrance.org
DTSTAMP:20260423T113520Z
DTSTART;TZID=Europe/Paris:20251007T190000
DTEND;TZID=Europe/Paris:20251009T203000
SUMMARY:Conférence sur l'Otan\, enjeux et perspectives pour la sécurité 
 européenne
DESCRIPTION:Nous sommes invités par le Conseil Antonien des Européens à 
 une conférence animée par Daniel Linke\, lieutenant-colonel\, officier al
 lemand\, breveté de l’école de guerre Hambourg\, avec pour thème :  L'
 OTAN : enjeux et perspectives pour la sécurité européenne d'un point de 
 vue Outre-Rhin Daniel Linke \, actuellement  au Ministère des Armées à P
 aris en charge de dossier de l’Union européenne\, a assumé des responsa
 bilités de niveau stratégique et politique au sein des ministères de la 
 Défense à Berlin
LOCATION:Espace Vasarely\, place des Anciens Combattants d'Afrique du Nord\
 , 92160 Antony
URL:https://voltfrance.org/evenements/conference-sur-lotan-enjeux-et-perspe
 ctives-pour-la-securite-europeenne
END:VEVENT
END:VCALENDAR
