BEGIN:VCALENDAR
VERSION:2.0
PRODID:-//Volt Europa//Events//EN
CALSCALE:GREGORIAN
METHOD:PUBLISH
BEGIN:VEVENT
UID:conference-lhumanisme-europeen-a-lere-de-lintelligence-artificielle-175
 8875400@voltfrance.org
DTSTAMP:20260423T130823Z
DTSTART;TZID=Europe/Paris:20250926T103000
DTEND;TZID=Europe/Paris:20250926T123000
SUMMARY:Conférence : L’humanisme européen à l’ère de l’intelligen
 ce artificielle
DESCRIPTION:Volt Ile de France  vous invite à assister à la conférence o
 rganisée par  Clément BEAUNE \, Haut-commissaire à la Stratégie et au P
 lan\, sur le thème de L’humanisme européen à l’ère de l’intellige
 nce artificielle\, à l'université de la Sorbonne. Cette rencontre réunir
 a intellectuels\, chercheurs et responsables publics pour débattre des enj
 eux philosophiques\, culturels et politiques de l’IA\, et réfléchir à 
 la manière dont l’Europe peut affirmer ses valeurs humanistes face à ce
 s transformations majeu
LOCATION:Amphithéâtre Louis Liard\, 17 rue de la Sorbonne\, 75005\, Paris
 .
URL:https://voltfrance.org/evenements/conference-lhumanisme-europeen-a-lere
 -de-lintelligence-artificielle
END:VEVENT
END:VCALENDAR
