BEGIN:VCALENDAR
VERSION:2.0
PRODID:-//Volt Europa//Events//EN
CALSCALE:GREGORIAN
METHOD:PUBLISH
BEGIN:VEVENT
UID:conference-jacques-delors-2024-elections-europeennes-2024-enjeux-et-per
 spectives-1716552000@voltfrance.org
DTSTAMP:20260423T074603Z
DTSTART;TZID=Europe/Paris:20240524T140000
DTEND;TZID=Europe/Paris:20240524T193000
SUMMARY:ConfÃ©rence Jacques Delors 2024 â€“ Elections europÃ©ennes 2024 : e
 njeux et perspectives
DESCRIPTION:La ConfÃ©rence Jacques Delors est lâ€™Ã©vÃ¨nement annuel phare 
 de lâ€™AcadÃ©mie Notre Europe.  Son objectif est double.  D'une part\, ouvr
 ir un espace de dialogue entre des personnalitÃ©s europÃ©ennes et des jeune
 s pour que ces derniers expriment leurs attentes relatives au projet europÃ
 ©en.  Dâ€™autre part\, permettre aux jeunes de mieux comprendre lâ€™Union e
 uropÃ©enne et ses politiques\, notamment dans la perspective des Ã©lections
  europÃ©ennes\, fil rouge de notre quatriÃ¨me Ã©dition.  Cet Ã©vÃ¨nement sâ
 €™articule auto
LOCATION:SiÃ¨ge de la Macif\, 17/21 place Etienne Perne\, Paris 75015
URL:https://voltfrance.org/evenements/conference-jacques-delors-2024-electi
 ons-europeennes-2024-enjeux-et-perspectives
END:VEVENT
END:VCALENDAR
