BEGIN:VCALENDAR
VERSION:2.0
PRODID:-//Volt Europa//Events//EN
CALSCALE:GREGORIAN
METHOD:PUBLISH
BEGIN:VEVENT
UID:collecte-des-signatures-avec-volt-allemagne-1734778800@voltfrance.org
DTSTAMP:20260423T113158Z
DTSTART;TZID=Europe/Paris:20241221T120000
DTEND;TZID=Europe/Paris:20241222T170000
SUMMARY:Collecte des signatures avec Volt Allemagne
DESCRIPTION:Comme la France cet été\, l'Allemagne va faire face à des é
 lections législatives anticipées en Février 2025. Pour pouvoir présente
 r des candidats\, les partis doivent obtenir un certain nombre de signature
 s de la part des citoyens.  Nous accompagnons les membres de Volt Allemagne
  dans leur quête\, dans toutes les villes frontalières où nous avons des
  candidats\, démontrant ainsi la  vocation européenne transfrontalière d
 e  Volt \, et notre solidarité.  Nous serons à Offenbourg et Achern en Or
 tenau po
LOCATION:Offenbourg et Achern en Ortenau
URL:https://voltfrance.org/evenements/collecte-des-signatures-avec-volt-all
 emagne
END:VEVENT
END:VCALENDAR
