BEGIN:VCALENDAR
VERSION:2.0
PRODID:-//Volt Europa//Events//EN
CALSCALE:GREGORIAN
METHOD:PUBLISH
BEGIN:VEVENT
UID:campaign-catalyst-event-1712383200@voltfrance.org
DTSTAMP:20260423T112827Z
DTSTART;TZID=Europe/Paris:20240406T080000
DTEND;TZID=Europe/Paris:20240407T200000
SUMMARY:Ã‰vÃ©nement Campaign Catalyst Ã  Bruxelles
DESCRIPTION:L'Europe vous appelle\, dÃ©crochez-vous ? 2024. L'Europe retien
 t son souffle. 4 milliards d'Ã©lecteurs sont de retour aux urnes cette annÃ
 ©e.  Mais sur fond de populisme\, l'extrÃªme droite menace de monter. C'est
  l'heure du rÃ©veil. L'Europe se trouve Ã  la croisÃ©e des chemins : un cit
 oyen sur trois est attirÃ© par les forces d'extrÃªme droite ou populistes. 
 Si elles ne sont pas contrÃ´lÃ©es\, ces forces menacent de devenir la trois
 iÃ¨me puissance du Parlement europÃ©en.  Dans ce contexte d'incertitude\, u
 ne Ã©
LOCATION:La Tricoterie\, Rue ThÃ©odore Verhaegen 158\, 1060 Brussels\, Belg
 ium
URL:https://voltfrance.org/evenements/campaign-catalyst-event
END:VEVENT
END:VCALENDAR
