BEGIN:VCALENDAR
VERSION:2.0
PRODID:-//Volt Europa//Events//EN
CALSCALE:GREGORIAN
METHOD:PUBLISH
BEGIN:VEVENT
UID:cafe-politique-a-mulhouse-1743238800@voltfrance.org
DTSTAMP:20260423T095345Z
DTSTART;TZID=Europe/Paris:20250329T100000
DTEND;TZID=Europe/Paris:20250329T123000
SUMMARY:Café politique à Mulhouse !
DESCRIPTION:Volt Alsace vous donne rendez vous à l'heure du brunch\, à la
  guinguette urbaine\, pour accueillir de nouveaux membres\, parler d'actual
 ités politiques et découvrir ce que propose le premier parti véritableme
 nt paneuropéen pour répondre aux crises de notre temps. Treffen sie uns b
 ei einem Kaffee in Mulhouse\, um über aktuelle politische Themen zu sprech
 en und herauszufinden\, was die erste wirkliche paneuropäische Partei vors
 chlägt\, um auf die Krisen unserer Zeit zu reagieren.
LOCATION:Le Nid\, 20 rue des Franciscains\, 68100 Mulhouse.
URL:https://voltfrance.org/evenements/cafe-politique-a-mulhouse
END:VEVENT
END:VCALENDAR
