BEGIN:VCALENDAR
VERSION:2.0
PRODID:-//Volt Europa//Events//EN
CALSCALE:GREGORIAN
METHOD:PUBLISH
BEGIN:VEVENT
UID:aufruf-an-alle-deutsche-staatsburger-appel-a-tous-les-citoyens-allemand
 s-1734263400@voltfrance.org
DTSTAMP:20260423T113520Z
DTSTART;TZID=Europe/Paris:20241215T125000
DTEND;TZID=Europe/Paris:20241229T235900
SUMMARY:Aufruf an alle deutsche StaatsbÃ¼rger! Appel Ã  tous les citoyens a
 llemands !
DESCRIPTION:Les Ã©lections parlementaires allemandes devraient Ãªtre avancÃ
 ©es au 23 fÃ©vrier 2025 en raison de l'effondrement rÃ©cent de la coalition
  gouvernementale.  L'inscription et le vote des Ã©lecteurs allemands vivant
  Ã  l'Ã©tranger est notre objectif.  Qui peut voter : les citoyens allemand
 s Ã¢gÃ©s de plus de 18 ans\, rÃ©sidant temporairement Ã  l'Ã©tranger ou rÃ©
 sidant Ã  l'Ã©tranger depuis moins de 25 ans\, ou ayant un intÃ©rÃªt pour l
 'Allemagne (par exemple un travail politique)\, qui dÃ©posent leur demande 
 avant le 
LOCATION:Online
URL:https://voltfrance.org/evenements/aufruf-an-alle-deutsche-staatsburger-
 appel-a-tous-les-citoyens-allemands
END:VEVENT
END:VCALENDAR
