BEGIN:VCALENDAR
VERSION:2.0
PRODID:-//Volt Europa//Events//EN
CALSCALE:GREGORIAN
METHOD:PUBLISH
BEGIN:VEVENT
UID:assemblee-generale-volt-france-2025-a-mulhouse-le-samedi-1757746800@vol
 tfrance.org
DTSTAMP:20260423T113454Z
DTSTART;TZID=Europe/Paris:20250913T090000
DTEND;TZID=Europe/Paris:20250914T154500
SUMMARY:Assemblée Générale Volt France 2025 à Mulhouse : le samedi !
DESCRIPTION:Un événement important dans la vie de notre parti\, l'occasio
 n de se retrouver\, de faire le bilan des deux dernières années et de ren
 ouveler les membres du bureau. 📅 Samedi 13 septembre 🕐   9h00 - 9h30 
  :  Arrivée et petit-déjeuner  🕐   9h30 - 9h40  : Ouverture par la 
 co-présidence  🕐   9h40 - 9h50  : Présentation par l’équipe de Mu
 lhouse  🕐   9h50 - 10h40  : Bilan du mandat  🕐   10h40 - 11h15  :
  Bilan financier  🕐   11h15 - 11h30  :  Pause café 🕐   11h30 - 12
 h30  : Pôle Politique - MAJ Atlas Pol
LOCATION:Auberge de jeunesse\, 37 avenue de l'Illberg\, 68200 Mulhouse
URL:https://voltfrance.org/evenements/assemblee-generale-volt-france-2025-a
 -mulhouse-le-samedi
END:VEVENT
END:VCALENDAR
