BEGIN:VCALENDAR
VERSION:2.0
PRODID:-//Volt Europa//Events//EN
CALSCALE:GREGORIAN
METHOD:PUBLISH
BEGIN:VEVENT
UID:assemblee-generale-volt-france-2025-a-mulhouse-le-dimanche-1757833200@v
 oltfrance.org
DTSTAMP:20260425T203046Z
DTSTART;TZID=Europe/Paris:20250914T090000
DTEND;TZID=Europe/Paris:20250914T151500
SUMMARY:Assemblée Générale Volt France 2025 à Mulhouse : le dimanche !
DESCRIPTION:Un événement important dans la vie de notre parti\, l'occasio
 n de se retrouver\, de faire le bilan des deux dernières années et de ren
 ouveler les membres du bureau. 📅 Dimanche 14 septembre 🕐   9h00 - 9h3
 0  :  Arrivée et petit-déjeuner  🕐   9h30 - 10h30  : Élection des 
 membres du Bureau  🕐   10h30 - 10h45  :  Pause café 🕐   10h45 - 1
 2h15  : Amendements des statuts  🕐   12h15 - 13h30  :  Pause déjeune
 r  🕐   13h30 - 14h00  : Résultat du vote du bureau  🕐   14h00 - 1
 5h00  : Objectif Municipales - Mars
LOCATION:Auberge de jeunesse\, 37 avenue de l'Illberg\, 68200 Mulhouse
URL:https://voltfrance.org/evenements/assemblee-generale-volt-france-2025-a
 -mulhouse-le-dimanche
END:VEVENT
END:VCALENDAR
