BEGIN:VCALENDAR
VERSION:2.0
PRODID:-//Volt Europa//Events//EN
CALSCALE:GREGORIAN
METHOD:PUBLISH
BEGIN:VEVENT
UID:assemblee-generale-volt-europa-a-francfort-1763796600@voltfrance.org
DTSTAMP:20260423T095202Z
DTSTART;TZID=Europe/Paris:20251122T083000
DTEND;TZID=Europe/Paris:20251123T160000
SUMMARY:AssemblÃ©e GÃ©nÃ©rale Volt Europa Ã  Francfort
DESCRIPTION:Le monde Ã©volue rapidement\, et l'Europe doit se montrer Ã  la
  hauteur de cette situation avec courage et luciditÃ©. Volt envisage une Eu
 rope forte\, intelligente et souveraine\, unie par un objectif commun et no
 n divisÃ©e par des frontiÃ¨res. Cette vision prend vie lors de nos assemblÃ
 ©es gÃ©nÃ©rales\, oÃ¹ des bÃ©nÃ©voles de tout le continent se rÃ©unissent p
 our renouer des liens\, apprendre et cÃ©lÃ©brer leur collaboration tout au 
 long de l'annÃ©e. De l'Ã©laboration de politiques sur l'IA\, la durabilitÃ©
  et l'intÃ©
LOCATION:Kap Europa\, convention center\, Messe Frankfurt
URL:https://voltfrance.org/evenements/assemblee-generale-volt-europa-a-fran
 cfort
END:VEVENT
END:VCALENDAR
