BEGIN:VCALENDAR
VERSION:2.0
PRODID:-//Volt Europa//Events//EN
CALSCALE:GREGORIAN
METHOD:PUBLISH
BEGIN:VEVENT
UID:assemblee-generale-volt-europa-a-bratislava-1781334000@voltfrance.org
DTSTAMP:20260421T103031Z
DTSTART;TZID=Europe/Paris:20260613T090000
DTEND;TZID=Europe/Paris:20260614T180000
SUMMARY:Assemblée Générale Volt Europa à Bratislava
DESCRIPTION:L'Europe centrale est au bord d'une crise : la démocratie est 
 sous pression et les économies ne parviennent pas à atteindre leur plein 
 potentiel. En octobre 2026\, des élections locales et régionales auront l
 ieu en Slovaquie. Ce moment offre également une occasion rare de renouveau
 . Pour la Slovaquie. Pour Volt. Pour l'Europe. C'est pourquoi nous organiso
 ns notre Assemblée générale en Slovaquie\, afin de remporter les électi
 ons dans un pays qui recèle un immense potentiel. L'Assemblée générale 
 de 
LOCATION:Príkopova 6\, 831 03 Bratislava\, Slovakia
URL:https://voltfrance.org/evenements/assemblee-generale-volt-europa-a-brat
 islava
END:VEVENT
END:VCALENDAR
