BEGIN:VCALENDAR
VERSION:2.0
PRODID:-//Volt Europa//Events//EN
CALSCALE:GREGORIAN
METHOD:PUBLISH
BEGIN:VEVENT
UID:assemblee-generale-ordinaire-en-ligne-1720116000@voltfrance.org
DTSTAMP:20260423T095143Z
DTSTART;TZID=Europe/Paris:20240704T200000
DTEND;TZID=Europe/Paris:20240704T213000
SUMMARY:Assemblée Générale ordinaire en ligne
DESCRIPTION:Élections pour compléter le bureau et modification du budget 
 2024 Comme le prévoient les statuts nous devons compléter l'effectif du b
 ureau suite à la démission d'une des membres non exécutives. A l'ordre d
 u jour: Présentation des votes par le Bureau Élection d'une nouvelle memb
 re non-executive du bureau (Statut Article 4.1 alinéa B) Les candidatures 
 sont ouvertes  jusqu'à Mardi 20 Juin 23h59 . Veuillez écrire par retour d
 e mail.  Après annonce des candidatures\, un temps de présentation des ca
 nd
LOCATION:Google Meet
URL:https://voltfrance.org/evenements/assemblee-generale-ordinaire-en-ligne
END:VEVENT
END:VCALENDAR
