BEGIN:VCALENDAR
VERSION:2.0
PRODID:-//Volt Europa//Events//EN
CALSCALE:GREGORIAN
METHOD:PUBLISH
BEGIN:VEVENT
UID:assemblee-generale-europeenne-2025-en-ligne-1751103600@voltfrance.org
DTSTAMP:20260423T113137Z
DTSTART;TZID=Europe/Paris:20250628T114000
DTEND;TZID=Europe/Paris:20250628T140000
SUMMARY:Assemblée générale européenne 2025 en ligne
DESCRIPTION:Le thème « Améliorer la collaboration entre les sections et 
 stimuler l'engagement » sera au cœur de notre prochaine assemblée géné
 rale annuelle\, qui se tiendra  en ligne  et réunira des membres de Volt d
 e tout le continent afin de réfléchir\, de prendre des décisions et d'al
 ler de l'avant ensemble. Que vous soyez un nouveau membre ou un militant de
  longue date de Volt\, l'AG est l'occasion de participer à des discussions
  constructives. Ce rassemblement annuel est le lieu où la stratégie renco
 ntre 
LOCATION:Online
URL:https://voltfrance.org/evenements/assemblee-generale-europeenne-2025-en
 -ligne
END:VEVENT
END:VCALENDAR
