BEGIN:VCALENDAR
VERSION:2.0
PRODID:-//Volt Europa//Events//EN
CALSCALE:GREGORIAN
METHOD:PUBLISH
BEGIN:VEVENT
UID:assemblee-generale-annuelle-volt-europa-2024-1732348800@voltfrance.org
DTSTAMP:20260423T113117Z
DTSTART;TZID=Europe/Paris:20241123T090000
DTEND;TZID=Europe/Paris:20241124T160000
SUMMARY:Assemblée générale annuelle Volt Europa 2024
DESCRIPTION:Pour tous les membres de Volt de tous âges\, sans distinction 
 de sexe\, de religion ou de croyance\, un grande rencontre en présence pou
 r décider des prochaines grandes étapes de l'avenir de Volt d'une manièr
 e positive et festive. Nous aurons également un public de membres de Volt 
 qui ne pourront pas être présents en personne et qui suivront la manifest
 ation à distance. Nous espérons leur permettre de faire aussi entendre le
 ur voix lors de cette Assemblée Générale.  Nous inviterons également le
 s mé
LOCATION:Tirana\, Albanie
URL:https://voltfrance.org/evenements/assemblee-generale-annuelle-volt-euro
 pa-2024
END:VEVENT
END:VCALENDAR
