BEGIN:VCALENDAR
VERSION:2.0
PRODID:-//Volt Europa//Events//EN
CALSCALE:GREGORIAN
METHOD:PUBLISH
BEGIN:VEVENT
UID:apero-dinatoire-a-nantes-1765818000@voltfrance.org
DTSTAMP:20260423T044653Z
DTSTART;TZID=Europe/Paris:20251215T180000
DTEND;TZID=Europe/Paris:20251215T223000
SUMMARY:Apéro dinatoire  à Nantes
DESCRIPTION:Volt Nantes propose un  apéro dinatoire d'avant Noël  sur une
  plage horaire étendue pour répondre à tous les emplois du temps et ress
 errer les liens.  Nul doute qu'on s'y racontera la récente Assemblée Gén
 érale de Volt Europa et le voyage mouvementé vers Francfort pour les part
 icipants de la moitie nord de la France entre retards\, trains supprimés e
 t incidents divers\, ce fut une épopée pour la plupart ! On y partagera c
 ertainement aussi les rencontres\, les ateliers et les interventions offici
 ell
LOCATION:La Maison Café\, 4 rue Lebrun\, 44000 Nantes
URL:https://voltfrance.org/evenements/apero-dinatoire-a-nantes
END:VEVENT
END:VCALENDAR
