BEGIN:VCALENDAR
VERSION:2.0
PRODID:-//Volt Europa//Events//EN
CALSCALE:GREGORIAN
METHOD:PUBLISH
BEGIN:VEVENT
UID:apero-debat-a-strasbourg-1733335200@voltfrance.org
DTSTAMP:20260423T095024Z
DTSTART;TZID=Europe/Paris:20241204T190000
DTEND;TZID=Europe/Paris:20241204T203000
SUMMARY:Apéro-débat à Strasbourg
DESCRIPTION:Le Projet de Loi de Finances 2025  : son passage au Sénat en D
 écembre va imposer des choix de société importants.  Volt Strasbourg Ort
 enau organise sa première rencontre dans le cadre d'un cycle de débats lo
 caux autour d'un verre\, sur le thème des finances publiques dans le conte
 xte politique et budgétaire Décryptons ensemble et débattons des choix f
 aits par le biais des finances publiques.
LOCATION:Brasserie Le Michel\, 20 avenue de la Marseillaise\, 67000 Strasbo
 urg
URL:https://voltfrance.org/evenements/apero-debat-a-strasbourg
END:VEVENT
END:VCALENDAR
