BEGIN:VCALENDAR
VERSION:2.0
PRODID:-//Volt Europa//Events//EN
CALSCALE:GREGORIAN
METHOD:PUBLISH
BEGIN:VEVENT
UID:afterwork-guillaume-lacroix-et-les-jeunes-du-centre-gauche-1714492800@v
 oltfrance.org
DTSTAMP:20260423T130757Z
DTSTART;TZID=Europe/Paris:20240430T180000
DTEND;TZID=Europe/Paris:20240430T200000
SUMMARY:Afterwork avec Guillaume Lacroix et les Jeunes du Centre Gauche
DESCRIPTION:Un afterwork avec Guillaume Lacroix et les Jeunes du Centre Gau
 che (JRG). Ce sera l’occasion de discuter de façon plus informelle de la
  campagne et de permettre aux intéressé-es de rencontrer des candidat-es 
 et militant-es de la liste !
LOCATION:Croco du Marais\, 6 Rue Dupetit-Thouars\, 75003 Paris
URL:https://voltfrance.org/evenements/afterwork-guillaume-lacroix-et-les-je
 unes-du-centre-gauche
END:VEVENT
END:VCALENDAR
