BEGIN:VCALENDAR
VERSION:2.0
PRODID:-//Volt Europa//Events//EN
CALSCALE:GREGORIAN
METHOD:PUBLISH
BEGIN:VEVENT
UID:a-nantes-avec-le-prg-1717691400@voltfrance.org
DTSTAMP:20260423T085715Z
DTSTART;TZID=Europe/Paris:20240606T183000
DTEND;TZID=Europe/Paris:20240606T200000
SUMMARY:Au café Flesselles avec le PRG
DESCRIPTION:Comme toutes les semaines\, jeudi soir au café convivial au Ca
 fé Flesselles\, avec nos amies du PRG Jeanne Sotter et Agnès Prunier et t
 ous les curieux et sympathisants.
LOCATION:Café Flesselles\, 3 All. Flesselles\, 44000 Nantes
URL:https://voltfrance.org/evenements/a-nantes-avec-le-prg
END:VEVENT
END:VCALENDAR
