BEGIN:VCALENDAR
VERSION:2.0
PRODID:-//Volt Europa//Events//EN
CALSCALE:GREGORIAN
METHOD:PUBLISH
BEGIN:VEVENT
UID:6-eme-marche-mondiale-des-femmes-a-marseille-1749805200@voltfrance.org
DTSTAMP:20260423T155232Z
DTSTART;TZID=Europe/Paris:20250613T110000
DTEND;TZID=Europe/Paris:20250615T183000
SUMMARY:6ème Marche Mondiale des Femmes à Marseille
DESCRIPTION:Tous les 5 ans depuis l’année 2000\, les féministes du mond
 e entier unissent leurs forces pour marcher ensemble\, avec l’objectif co
 mmun de construire un monde basé sur la Paix\, la Justice\, l’Égalité\
 , la Liberté et la Solidarité. Une étape nationale\, une étape europée
 nne et une étape internationale\, entre le 8 mars\, Journée international
 e pour les droits des femmes\, et le 27 octobre\, journée internationale c
 ontre la pauvreté. Dans ce cadre\, c’est la  Coordination MMF 13 Paca  q
 ui accueillera la re
LOCATION:Plage du Prado 13000 Marseille
URL:https://voltfrance.org/evenements/6-eme-marche-mondiale-des-femmes-a-ma
 rseille
END:VEVENT
END:VCALENDAR
